BEGIN:VCALENDAR
VERSION:2.0
PRODID:-//School Administrators of South Dakota - ECPv6.15.20//NONSGML v1.0//EN
CALSCALE:GREGORIAN
METHOD:PUBLISH
X-ORIGINAL-URL:https://www.sasd.org
X-WR-CALDESC:Events for School Administrators of South Dakota
REFRESH-INTERVAL;VALUE=DURATION:PT1H
X-Robots-Tag:noindex
X-PUBLISHED-TTL:PT1H
BEGIN:VTIMEZONE
TZID:UTC
BEGIN:STANDARD
TZOFFSETFROM:+0000
TZOFFSETTO:+0000
TZNAME:UTC
DTSTART:20160101T000000
END:STANDARD
END:VTIMEZONE
BEGIN:VTIMEZONE
TZID:America/Chicago
BEGIN:DAYLIGHT
TZOFFSETFROM:-0600
TZOFFSETTO:-0500
TZNAME:CDT
DTSTART:20180311T080000
END:DAYLIGHT
BEGIN:STANDARD
TZOFFSETFROM:-0500
TZOFFSETTO:-0600
TZNAME:CST
DTSTART:20181104T070000
END:STANDARD
BEGIN:DAYLIGHT
TZOFFSETFROM:-0600
TZOFFSETTO:-0500
TZNAME:CDT
DTSTART:20190310T080000
END:DAYLIGHT
BEGIN:STANDARD
TZOFFSETFROM:-0500
TZOFFSETTO:-0600
TZNAME:CST
DTSTART:20191103T070000
END:STANDARD
BEGIN:DAYLIGHT
TZOFFSETFROM:-0600
TZOFFSETTO:-0500
TZNAME:CDT
DTSTART:20200308T080000
END:DAYLIGHT
BEGIN:STANDARD
TZOFFSETFROM:-0500
TZOFFSETTO:-0600
TZNAME:CST
DTSTART:20201101T070000
END:STANDARD
END:VTIMEZONE
BEGIN:VEVENT
DTSTART;VALUE=DATE:20250807
DTEND;VALUE=DATE:20250809
DTSTAMP:20260421T145334
CREATED:20240725T183425Z
LAST-MODIFIED:20240725T183433Z
UID:4009-1754524800-1754697599@www.sasd.org
SUMMARY:ASBSD/SASD Joint Convention
DESCRIPTION:
URL:https://www.sasd.org/events/asbsd-sasd-joint-convention-4/
LOCATION:Sioux Falls Convention Center\, 1201 Northwest Ave\, Sioux Falls\, SD\, 57104\, United States
ORGANIZER;CN="SASD":MAILTO:Kara.Brandlee@sasd.org
GEO:43.5612074;-96.7508066
X-APPLE-STRUCTURED-LOCATION;VALUE=URI;X-ADDRESS=Sioux Falls Convention Center 1201 Northwest Ave Sioux Falls SD 57104 United States;X-APPLE-RADIUS=500;X-TITLE=1201 Northwest Ave:geo:-96.7508066,43.5612074
END:VEVENT
BEGIN:VEVENT
DTSTART;VALUE=DATE:20240808
DTEND;VALUE=DATE:20240810
DTSTAMP:20260421T145334
CREATED:20240725T182136Z
LAST-MODIFIED:20240725T182145Z
UID:3991-1723075200-1723247999@www.sasd.org
SUMMARY:ASBSD/SASD Joint Convention
DESCRIPTION:
URL:https://www.sasd.org/events/asbsd-sasd-joint-convention-3/
LOCATION:Sioux Falls Convention Center\, 1201 Northwest Ave\, Sioux Falls\, SD\, 57104\, United States
ORGANIZER;CN="SASD":MAILTO:Kara.Brandlee@sasd.org
GEO:43.5612074;-96.7508066
X-APPLE-STRUCTURED-LOCATION;VALUE=URI;X-ADDRESS=Sioux Falls Convention Center 1201 Northwest Ave Sioux Falls SD 57104 United States;X-APPLE-RADIUS=500;X-TITLE=1201 Northwest Ave:geo:-96.7508066,43.5612074
END:VEVENT
BEGIN:VEVENT
DTSTART;TZID=UTC:20240807T173000
DTEND;TZID=UTC:20240807T180000
DTSTAMP:20260421T145334
CREATED:20240725T181929Z
LAST-MODIFIED:20240725T181939Z
UID:3989-1723051800-1723053600@www.sasd.org
SUMMARY:SASD General Membership Meeting
DESCRIPTION:
URL:https://www.sasd.org/events/sasd-general-membership-meeting-2/
LOCATION:Sioux Falls Convention Center\, 1201 Northwest Ave\, Sioux Falls\, SD\, 57104\, United States
ORGANIZER;CN="SASD":MAILTO:Kara.Brandlee@sasd.org
GEO:43.5612074;-96.7508066
X-APPLE-STRUCTURED-LOCATION;VALUE=URI;X-ADDRESS=Sioux Falls Convention Center 1201 Northwest Ave Sioux Falls SD 57104 United States;X-APPLE-RADIUS=500;X-TITLE=1201 Northwest Ave:geo:-96.7508066,43.5612074
END:VEVENT
BEGIN:VEVENT
DTSTART;TZID=UTC:20240807T163000
DTEND;TZID=UTC:20240807T183000
DTSTAMP:20260421T145334
CREATED:20240725T181744Z
LAST-MODIFIED:20240725T181758Z
UID:3987-1723048200-1723055400@www.sasd.org
SUMMARY:SASD Executive Board Meeting
DESCRIPTION:
URL:https://www.sasd.org/events/sasd-executive-board-meeting-21/
LOCATION:Sioux Falls Convention Center\, 1201 Northwest Ave\, Sioux Falls\, SD\, 57104\, United States
ORGANIZER;CN="SASD":MAILTO:Kara.Brandlee@sasd.org
GEO:43.5612074;-96.7508066
X-APPLE-STRUCTURED-LOCATION;VALUE=URI;X-ADDRESS=Sioux Falls Convention Center 1201 Northwest Ave Sioux Falls SD 57104 United States;X-APPLE-RADIUS=500;X-TITLE=1201 Northwest Ave:geo:-96.7508066,43.5612074
END:VEVENT
BEGIN:VEVENT
DTSTART;VALUE=DATE:20230803
DTEND;VALUE=DATE:20230805
DTSTAMP:20260421T145334
CREATED:20230712T181211Z
LAST-MODIFIED:20230712T181211Z
UID:3492-1691020800-1691193599@www.sasd.org
SUMMARY:ASBSD/SASD Joint Convention
DESCRIPTION:
URL:https://www.sasd.org/events/asbsd-sasd-joint-convention-2/
LOCATION:Sioux Falls Convention Center\, 1201 Northwest Ave\, Sioux Falls\, SD\, 57104\, United States
ORGANIZER;CN="SASD":MAILTO:Kara.Brandlee@sasd.org
GEO:43.5612074;-96.7508066
X-APPLE-STRUCTURED-LOCATION;VALUE=URI;X-ADDRESS=Sioux Falls Convention Center 1201 Northwest Ave Sioux Falls SD 57104 United States;X-APPLE-RADIUS=500;X-TITLE=1201 Northwest Ave:geo:-96.7508066,43.5612074
END:VEVENT
BEGIN:VEVENT
DTSTART;TZID=UTC:20230802T173000
DTEND;TZID=UTC:20230802T180000
DTSTAMP:20260421T145334
CREATED:20230712T180929Z
LAST-MODIFIED:20230712T180929Z
UID:3490-1690997400-1690999200@www.sasd.org
SUMMARY:SASD General Membership Meeting
DESCRIPTION:
URL:https://www.sasd.org/events/sasd-general-membership-meeting/
LOCATION:Sioux Falls Convention Center\, 1201 Northwest Ave\, Sioux Falls\, SD\, 57104\, United States
ORGANIZER;CN="SASD":MAILTO:Kara.Brandlee@sasd.org
GEO:43.5612074;-96.7508066
X-APPLE-STRUCTURED-LOCATION;VALUE=URI;X-ADDRESS=Sioux Falls Convention Center 1201 Northwest Ave Sioux Falls SD 57104 United States;X-APPLE-RADIUS=500;X-TITLE=1201 Northwest Ave:geo:-96.7508066,43.5612074
END:VEVENT
BEGIN:VEVENT
DTSTART;TZID=UTC:20230802T163000
DTEND;TZID=UTC:20230802T173000
DTSTAMP:20260421T145334
CREATED:20230712T180730Z
LAST-MODIFIED:20230712T180730Z
UID:3488-1690993800-1690997400@www.sasd.org
SUMMARY:SASD Executive Board Meeting
DESCRIPTION:
URL:https://www.sasd.org/events/sasd-executive-board-meeting-17/
LOCATION:Sioux Falls Convention Center\, 1201 Northwest Ave\, Sioux Falls\, SD\, 57104\, United States
ORGANIZER;CN="SASD":MAILTO:Kara.Brandlee@sasd.org
GEO:43.5612074;-96.7508066
X-APPLE-STRUCTURED-LOCATION;VALUE=URI;X-ADDRESS=Sioux Falls Convention Center 1201 Northwest Ave Sioux Falls SD 57104 United States;X-APPLE-RADIUS=500;X-TITLE=1201 Northwest Ave:geo:-96.7508066,43.5612074
END:VEVENT
BEGIN:VEVENT
DTSTART;VALUE=DATE:20190808
DTEND;VALUE=DATE:20190810
DTSTAMP:20260421T145334
CREATED:20190417T211457Z
LAST-MODIFIED:20190418T131820Z
UID:1388-1565222400-1565395199@www.sasd.org
SUMMARY:ASBSD/SASD Joint Convention
DESCRIPTION:
URL:https://www.sasd.org/events/asbsd-sasd-joint-convention/
LOCATION:Sioux Falls Convention Center\, 1201 Northwest Ave\, Sioux Falls\, SD\, 57104\, United States
ORGANIZER;CN="SASD":MAILTO:Kara.Brandlee@sasd.org
GEO:43.5612074;-96.7508066
X-APPLE-STRUCTURED-LOCATION;VALUE=URI;X-ADDRESS=Sioux Falls Convention Center 1201 Northwest Ave Sioux Falls SD 57104 United States;X-APPLE-RADIUS=500;X-TITLE=1201 Northwest Ave:geo:-96.7508066,43.5612074
END:VEVENT
BEGIN:VEVENT
DTSTART;TZID=UTC:20180809T073000
DTEND;TZID=UTC:20180810T123000
DTSTAMP:20260421T145334
CREATED:20170824T152955Z
LAST-MODIFIED:20170824T152955Z
UID:763-1533799800-1533904200@www.sasd.org
SUMMARY:ASBSD/SASD Joint Convention
DESCRIPTION:
URL:https://www.sasd.org/events/asbsdsasd-joint-convention-2/
LOCATION:Sioux Falls Convention Center\, 1201 Northwest Ave\, Sioux Falls\, SD\, 57104\, United States
ORGANIZER;CN="SASD":MAILTO:Kara.Brandlee@sasd.org
GEO:43.5612074;-96.7508066
X-APPLE-STRUCTURED-LOCATION;VALUE=URI;X-ADDRESS=Sioux Falls Convention Center 1201 Northwest Ave Sioux Falls SD 57104 United States;X-APPLE-RADIUS=500;X-TITLE=1201 Northwest Ave:geo:-96.7508066,43.5612074
END:VEVENT
BEGIN:VEVENT
DTSTART;TZID=UTC:20180808T080000
DTEND;TZID=UTC:20180809T120000
DTSTAMP:20260421T145334
CREATED:20180510T030652Z
LAST-MODIFIED:20180510T031343Z
UID:1080-1533715200-1533816000@www.sasd.org
SUMMARY:1st Year Principal Leadership and Development (2018-2019 Mentoring)
DESCRIPTION:This program will be for any “rookie” principal at any level that is looking to have a mentor and the support to help them get their career of to a successful start. This program will be offered as a partnership between SASD and the South Dakota Department of Education.  There will be up to four face-to-face meetings as well as other online learning opportunities.
URL:https://www.sasd.org/events/1st-year-principal-leadership-and-development-2018-2019-mentoring/
LOCATION:Sioux Falls Convention Center\, 1201 Northwest Ave\, Sioux Falls\, SD\, 57104\, United States
ORGANIZER;CN="SASD":MAILTO:Kara.Brandlee@sasd.org
GEO:43.5612074;-96.7508066
X-APPLE-STRUCTURED-LOCATION;VALUE=URI;X-ADDRESS=Sioux Falls Convention Center 1201 Northwest Ave Sioux Falls SD 57104 United States;X-APPLE-RADIUS=500;X-TITLE=1201 Northwest Ave:geo:-96.7508066,43.5612074
END:VEVENT
BEGIN:VEVENT
DTSTART;TZID=UTC:20170810T080000
DTEND;TZID=UTC:20170811T170000
DTSTAMP:20260421T145334
CREATED:20170717T155308Z
LAST-MODIFIED:20170720T145309Z
UID:143-1502352000-1502470800@www.sasd.org
SUMMARY:ASBSD/SASD Joint Convention
DESCRIPTION:
URL:https://www.sasd.org/events/asbsdsasd-joint-convention/
LOCATION:Sioux Falls Convention Center\, 1201 Northwest Ave\, Sioux Falls\, SD\, 57104\, United States
CATEGORIES:SASD Events
ORGANIZER;CN="SASD":MAILTO:Kara.Brandlee@sasd.org
GEO:43.5612074;-96.7508066
X-APPLE-STRUCTURED-LOCATION;VALUE=URI;X-ADDRESS=Sioux Falls Convention Center 1201 Northwest Ave Sioux Falls SD 57104 United States;X-APPLE-RADIUS=500;X-TITLE=1201 Northwest Ave:geo:-96.7508066,43.5612074
END:VEVENT
BEGIN:VEVENT
DTSTART;TZID=UTC:20170809T080000
DTEND;TZID=UTC:20170809T170000
DTSTAMP:20260421T145334
CREATED:20170717T155225Z
LAST-MODIFIED:20170717T155225Z
UID:142-1502265600-1502298000@www.sasd.org
SUMMARY:SASD Executive Board Meeting
DESCRIPTION:Wednesday\, August 9\, 2017\nTime: TBD
URL:https://www.sasd.org/events/sasd-executive-board-meeting/
LOCATION:Sioux Falls Convention Center\, 1201 Northwest Ave\, Sioux Falls\, SD\, 57104\, United States
CATEGORIES:SASD Events
ORGANIZER;CN="SASD":MAILTO:Kara.Brandlee@sasd.org
GEO:43.5612074;-96.7508066
X-APPLE-STRUCTURED-LOCATION;VALUE=URI;X-ADDRESS=Sioux Falls Convention Center 1201 Northwest Ave Sioux Falls SD 57104 United States;X-APPLE-RADIUS=500;X-TITLE=1201 Northwest Ave:geo:-96.7508066,43.5612074
END:VEVENT
END:VCALENDAR