BEGIN:VCALENDAR
VERSION:2.0
PRODID:-//School Administrators of South Dakota - ECPv6.15.20//NONSGML v1.0//EN
CALSCALE:GREGORIAN
METHOD:PUBLISH
X-WR-CALNAME:School Administrators of South Dakota
X-ORIGINAL-URL:https://www.sasd.org
X-WR-CALDESC:Events for School Administrators of South Dakota
REFRESH-INTERVAL;VALUE=DURATION:PT1H
X-Robots-Tag:noindex
X-PUBLISHED-TTL:PT1H
BEGIN:VTIMEZONE
TZID:UTC
BEGIN:STANDARD
TZOFFSETFROM:+0000
TZOFFSETTO:+0000
TZNAME:UTC
DTSTART:20160101T000000
END:STANDARD
END:VTIMEZONE
BEGIN:VTIMEZONE
TZID:America/Chicago
BEGIN:DAYLIGHT
TZOFFSETFROM:-0600
TZOFFSETTO:-0500
TZNAME:CDT
DTSTART:20180311T080000
END:DAYLIGHT
BEGIN:STANDARD
TZOFFSETFROM:-0500
TZOFFSETTO:-0600
TZNAME:CST
DTSTART:20181104T070000
END:STANDARD
BEGIN:DAYLIGHT
TZOFFSETFROM:-0600
TZOFFSETTO:-0500
TZNAME:CDT
DTSTART:20190310T080000
END:DAYLIGHT
BEGIN:STANDARD
TZOFFSETFROM:-0500
TZOFFSETTO:-0600
TZNAME:CST
DTSTART:20191103T070000
END:STANDARD
BEGIN:DAYLIGHT
TZOFFSETFROM:-0600
TZOFFSETTO:-0500
TZNAME:CDT
DTSTART:20200308T080000
END:DAYLIGHT
BEGIN:STANDARD
TZOFFSETFROM:-0500
TZOFFSETTO:-0600
TZNAME:CST
DTSTART:20201101T070000
END:STANDARD
BEGIN:DAYLIGHT
TZOFFSETFROM:-0600
TZOFFSETTO:-0500
TZNAME:CDT
DTSTART:20210314T080000
END:DAYLIGHT
BEGIN:STANDARD
TZOFFSETFROM:-0500
TZOFFSETTO:-0600
TZNAME:CST
DTSTART:20211107T070000
END:STANDARD
END:VTIMEZONE
BEGIN:VEVENT
DTSTART;TZID=UTC:20220202T120000
DTEND;TZID=UTC:20220202T133000
DTSTAMP:20260421T162033
CREATED:20210810T150432Z
LAST-MODIFIED:20210810T150432Z
UID:2477-1643803200-1643808600@www.sasd.org
SUMMARY:SASD Outstanding Administrator Banquet
DESCRIPTION:
URL:https://www.sasd.org/events/sasd-outstanding-administrator-banquet-2/
LOCATION:Ramkota Inn\, Pierre\, SD\, 57501\, United States
ORGANIZER;CN="SASD":MAILTO:Kara.Brandlee@sasd.org
GEO:44.372506;-100.3628839
END:VEVENT
BEGIN:VEVENT
DTSTART;TZID=UTC:20220201T130000
DTEND;TZID=UTC:20220201T160000
DTSTAMP:20260421T162033
CREATED:20210810T145914Z
LAST-MODIFIED:20210810T145914Z
UID:2473-1643720400-1643731200@www.sasd.org
SUMMARY:SASD Delegate Assembly
DESCRIPTION:
URL:https://www.sasd.org/events/sasd-delegate-assembly-3/
LOCATION:Ramkota Inn\, Pierre\, SD\, 57501\, United States
ORGANIZER;CN="SASD":MAILTO:Kara.Brandlee@sasd.org
GEO:44.372506;-100.3628839
END:VEVENT
BEGIN:VEVENT
DTSTART;TZID=UTC:20220102T160000
DTEND;TZID=UTC:20220102T170000
DTSTAMP:20260421T162033
CREATED:20210810T150145Z
LAST-MODIFIED:20210810T150145Z
UID:2475-1641139200-1641142800@www.sasd.org
SUMMARY:SASD Executive Board Meeting
DESCRIPTION:Meeting will begin immediately following the Delegate Assembly.
URL:https://www.sasd.org/events/sasd-executive-board-meeting-11/
LOCATION:Ramkota Inn\, Pierre\, SD\, 57501\, United States
ORGANIZER;CN="SASD":MAILTO:Kara.Brandlee@sasd.org
GEO:44.372506;-100.3628839
END:VEVENT
BEGIN:VEVENT
DTSTART;TZID=UTC:20211207T090000
DTEND;TZID=UTC:20211207T113000
DTSTAMP:20260421T162033
CREATED:20210810T145737Z
LAST-MODIFIED:20210810T145737Z
UID:2471-1638867600-1638876600@www.sasd.org
SUMMARY:SASD Legislative Committee Meeting
DESCRIPTION:
URL:https://www.sasd.org/events/sasd-legislative-committee-meeting-4/
LOCATION:Ramkota Inn\, Pierre\, SD\, 57501\, United States
ORGANIZER;CN="SASD":MAILTO:Kara.Brandlee@sasd.org
GEO:44.372506;-100.3628839
END:VEVENT
BEGIN:VEVENT
DTSTART;TZID=UTC:20211005T100000
DTEND;TZID=UTC:20211005T120000
DTSTAMP:20260421T162033
CREATED:20210810T145403Z
LAST-MODIFIED:20210810T145403Z
UID:2467-1633428000-1633435200@www.sasd.org
SUMMARY:SASD Professional Services Committee
DESCRIPTION:
URL:https://www.sasd.org/events/sasd-professional-services-committee/
LOCATION:Ramkota Inn\, Pierre\, SD\, 57501\, United States
ORGANIZER;CN="SASD":MAILTO:Kara.Brandlee@sasd.org
GEO:44.372506;-100.3628839
END:VEVENT
BEGIN:VEVENT
DTSTART;TZID=America/Chicago:20200204T160000
DTEND;TZID=America/Chicago:20200204T173000
DTSTAMP:20260421T162033
CREATED:20190418T173214Z
LAST-MODIFIED:20190418T173214Z
UID:1393-1580832000-1580837400@www.sasd.org
SUMMARY:SASD Executive Board Mtg
DESCRIPTION:
URL:https://www.sasd.org/events/sasd-executive-board-mtg/
LOCATION:Ramkota Inn\, Pierre\, SD\, 57501\, United States
ORGANIZER;CN="SASD":MAILTO:Kara.Brandlee@sasd.org
GEO:44.372506;-100.3628839
END:VEVENT
BEGIN:VEVENT
DTSTART;TZID=America/Chicago:20200204T130000
DTEND;TZID=America/Chicago:20200204T160000
DTSTAMP:20260421T162033
CREATED:20190418T173028Z
LAST-MODIFIED:20190418T173028Z
UID:1392-1580821200-1580832000@www.sasd.org
SUMMARY:SASD Delegate Assembly
DESCRIPTION:
URL:https://www.sasd.org/events/sasd-delegate-assembly-2/
LOCATION:Ramkota Inn\, Pierre\, SD\, 57501\, United States
ORGANIZER;CN="SASD":MAILTO:Kara.Brandlee@sasd.org
GEO:44.372506;-100.3628839
END:VEVENT
BEGIN:VEVENT
DTSTART;TZID=America/Chicago:20191203T090000
DTEND;TZID=America/Chicago:20191203T113000
DTSTAMP:20260421T162034
CREATED:20190418T155201Z
LAST-MODIFIED:20190418T155228Z
UID:1391-1575363600-1575372600@www.sasd.org
SUMMARY:SASD Legislative Committee Meeting
DESCRIPTION:
URL:https://www.sasd.org/events/sasd-legislative-committee-meeting-3/
LOCATION:Ramkota Inn\, Pierre\, SD\, 57501\, United States
ORGANIZER;CN="SASD":MAILTO:Kara.Brandlee@sasd.org
GEO:44.372506;-100.3628839
END:VEVENT
BEGIN:VEVENT
DTSTART;TZID=America/Chicago:20191001T120000
DTEND;TZID=America/Chicago:20191001T150000
DTSTAMP:20260421T162034
CREATED:20190418T131038Z
LAST-MODIFIED:20190418T131344Z
UID:1390-1569931200-1569942000@www.sasd.org
SUMMARY:SASD Executive Board Meeting
DESCRIPTION:
URL:https://www.sasd.org/events/sasd-executive-board-meeting-8/
LOCATION:Ramkota Inn\, Pierre\, SD\, 57501\, United States
ORGANIZER;CN="SASD":MAILTO:Kara.Brandlee@sasd.org
GEO:44.372506;-100.3628839
END:VEVENT
BEGIN:VEVENT
DTSTART;TZID=America/Chicago:20191001T100000
DTEND;TZID=America/Chicago:20191001T123000
DTSTAMP:20260421T162034
CREATED:20190417T211913Z
LAST-MODIFIED:20190418T131622Z
UID:1389-1569924000-1569933000@www.sasd.org
SUMMARY:SASD Professional Services Committee Mtg.
DESCRIPTION:
URL:https://www.sasd.org/events/sasd-professional-services-committee-mtg/
LOCATION:Ramkota Inn\, Pierre\, SD\, 57501\, United States
ORGANIZER;CN="SASD":MAILTO:Kara.Brandlee@sasd.org
GEO:44.372506;-100.3628839
END:VEVENT
BEGIN:VEVENT
DTSTART;TZID=UTC:20190129T160000
DTEND;TZID=UTC:20190129T173000
DTSTAMP:20260421T162034
CREATED:20180814T180856Z
LAST-MODIFIED:20180814T181102Z
UID:1217-1548777600-1548783000@www.sasd.org
SUMMARY:SASD Executive Board Meeting
DESCRIPTION:NOTE:  Meeting will begin immediately following the Delegate Assembly\, so time listed could vary
URL:https://www.sasd.org/events/sasd-executive-board-meeting-6/
LOCATION:Ramkota Inn\, Pierre\, SD\, 57501\, United States
ORGANIZER;CN="SASD":MAILTO:Kara.Brandlee@sasd.org
GEO:44.372506;-100.3628839
END:VEVENT
BEGIN:VEVENT
DTSTART;TZID=UTC:20190129T130000
DTEND;TZID=UTC:20190129T170000
DTSTAMP:20260421T162034
CREATED:20180814T180253Z
LAST-MODIFIED:20180814T180253Z
UID:1214-1548766800-1548781200@www.sasd.org
SUMMARY:Delegate Assembly
DESCRIPTION:
URL:https://www.sasd.org/events/delegate-assembly/
LOCATION:Ramkota Inn\, Pierre\, SD\, 57501\, United States
ORGANIZER;CN="SASD":MAILTO:Kara.Brandlee@sasd.org
GEO:44.372506;-100.3628839
END:VEVENT
BEGIN:VEVENT
DTSTART;TZID=UTC:20181204T090000
DTEND;TZID=UTC:20181204T113000
DTSTAMP:20260421T162034
CREATED:20180814T180025Z
LAST-MODIFIED:20180814T180025Z
UID:1213-1543914000-1543923000@www.sasd.org
SUMMARY:SASD Legislative Committee Meeting
DESCRIPTION:
URL:https://www.sasd.org/events/sasd-legislative-committee-meeting-2/
LOCATION:Ramkota Inn\, Pierre\, SD\, 57501\, United States
ORGANIZER;CN="SASD":MAILTO:Kara.Brandlee@sasd.org
GEO:44.372506;-100.3628839
END:VEVENT
BEGIN:VEVENT
DTSTART;TZID=UTC:20181003T100000
DTEND;TZID=UTC:20181003T140000
DTSTAMP:20260421T162034
CREATED:20180814T175814Z
LAST-MODIFIED:20180814T175814Z
UID:1212-1538560800-1538575200@www.sasd.org
SUMMARY:Professional Services Committee Meeting
DESCRIPTION:
URL:https://www.sasd.org/events/professional-services-committee-meeting/
LOCATION:Ramkota Inn\, Pierre\, SD\, 57501\, United States
ORGANIZER;CN="SASD":MAILTO:Kara.Brandlee@sasd.org
GEO:44.372506;-100.3628839
END:VEVENT
BEGIN:VEVENT
DTSTART;TZID=UTC:20181002T100000
DTEND;TZID=UTC:20181002T140000
DTSTAMP:20260421T162034
CREATED:20180814T175456Z
LAST-MODIFIED:20180814T175456Z
UID:1211-1538474400-1538488800@www.sasd.org
SUMMARY:SASD Executive Board Meeting
DESCRIPTION:
URL:https://www.sasd.org/events/sasd-executive-board-meeting-3/
LOCATION:Ramkota Inn\, Pierre\, SD\, 57501\, United States
ORGANIZER;CN="SASD":MAILTO:Kara.Brandlee@sasd.org
GEO:44.372506;-100.3628839
END:VEVENT
BEGIN:VEVENT
DTSTART;TZID=UTC:20180130T150000
DTEND;TZID=UTC:20180130T170000
DTSTAMP:20260421T162034
CREATED:20170824T141148Z
LAST-MODIFIED:20180117T171432Z
UID:757-1517324400-1517331600@www.sasd.org
SUMMARY:SASD Executive Board Meeting
DESCRIPTION:Meeting will begin immediately following the Delegate Assembly.
URL:https://www.sasd.org/events/sasd-executive-board-meeting-5/
LOCATION:Ramkota Inn\, Pierre\, SD\, 57501\, United States
CATEGORIES:SASD Events
ORGANIZER;CN="SASD":MAILTO:Kara.Brandlee@sasd.org
GEO:44.372506;-100.3628839
END:VEVENT
BEGIN:VEVENT
DTSTART;TZID=UTC:20180130T130000
DTEND;TZID=UTC:20180130T173000
DTSTAMP:20260421T162034
CREATED:20170824T140241Z
LAST-MODIFIED:20170824T140241Z
UID:756-1517317200-1517333400@www.sasd.org
SUMMARY:SASD Delegate Assembly
DESCRIPTION:
URL:https://www.sasd.org/events/sasd-delegate-assembly/
LOCATION:Ramkota Inn\, Pierre\, SD\, 57501\, United States
ORGANIZER;CN="SASD":MAILTO:Kara.Brandlee@sasd.org
GEO:44.372506;-100.3628839
END:VEVENT
BEGIN:VEVENT
DTSTART;TZID=UTC:20171205T090000
DTEND;TZID=UTC:20171205T113000
DTSTAMP:20260421T162034
CREATED:20170824T135958Z
LAST-MODIFIED:20170824T135958Z
UID:755-1512464400-1512473400@www.sasd.org
SUMMARY:SASD Legislative Committee Meeting
DESCRIPTION:.
URL:https://www.sasd.org/events/sasd-legislative-committee-meeting/
LOCATION:Ramkota Inn\, Pierre\, SD\, 57501\, United States
ORGANIZER;CN="SASD":MAILTO:Kara.Brandlee@sasd.org
GEO:44.372506;-100.3628839
END:VEVENT
BEGIN:VEVENT
DTSTART;TZID=UTC:20171004T130000
DTEND;TZID=UTC:20171004T150000
DTSTAMP:20260421T162034
CREATED:20170717T155511Z
LAST-MODIFIED:20170823T181650Z
UID:144-1507122000-1507129200@www.sasd.org
SUMMARY:SASD Executive Board Meeting
DESCRIPTION:
URL:https://www.sasd.org/events/sasd-executive-board-meeting-2/
LOCATION:Ramkota Inn\, Pierre\, SD\, 57501\, United States
CATEGORIES:SASD Events
ORGANIZER;CN="SASD":MAILTO:Kara.Brandlee@sasd.org
GEO:44.372506;-100.3628839
END:VEVENT
BEGIN:VEVENT
DTSTART;TZID=UTC:20171004T100000
DTEND;TZID=UTC:20171004T120000
DTSTAMP:20260421T162034
CREATED:20170717T155547Z
LAST-MODIFIED:20170823T181818Z
UID:145-1507111200-1507118400@www.sasd.org
SUMMARY:Professional Services Committee
DESCRIPTION:
URL:https://www.sasd.org/events/professional-services-committee/
LOCATION:Ramkota Inn\, Pierre\, SD\, 57501\, United States
CATEGORIES:SASD Events
ORGANIZER;CN="SASD":MAILTO:Kara.Brandlee@sasd.org
GEO:44.372506;-100.3628839
END:VEVENT
END:VCALENDAR