BEGIN:VCALENDAR
VERSION:2.0
PRODID:-//School Administrators of South Dakota - ECPv6.15.20//NONSGML v1.0//EN
CALSCALE:GREGORIAN
METHOD:PUBLISH
X-ORIGINAL-URL:https://www.sasd.org
X-WR-CALDESC:Events for School Administrators of South Dakota
REFRESH-INTERVAL;VALUE=DURATION:PT1H
X-Robots-Tag:noindex
X-PUBLISHED-TTL:PT1H
BEGIN:VTIMEZONE
TZID:UTC
BEGIN:STANDARD
TZOFFSETFROM:+0000
TZOFFSETTO:+0000
TZNAME:UTC
DTSTART:20170101T000000
END:STANDARD
END:VTIMEZONE
BEGIN:VTIMEZONE
TZID:America/Chicago
BEGIN:DAYLIGHT
TZOFFSETFROM:-0600
TZOFFSETTO:-0500
TZNAME:CDT
DTSTART:20180311T080000
END:DAYLIGHT
BEGIN:STANDARD
TZOFFSETFROM:-0500
TZOFFSETTO:-0600
TZNAME:CST
DTSTART:20181104T070000
END:STANDARD
BEGIN:DAYLIGHT
TZOFFSETFROM:-0600
TZOFFSETTO:-0500
TZNAME:CDT
DTSTART:20190310T080000
END:DAYLIGHT
BEGIN:STANDARD
TZOFFSETFROM:-0500
TZOFFSETTO:-0600
TZNAME:CST
DTSTART:20191103T070000
END:STANDARD
BEGIN:DAYLIGHT
TZOFFSETFROM:-0600
TZOFFSETTO:-0500
TZNAME:CDT
DTSTART:20200308T080000
END:DAYLIGHT
BEGIN:STANDARD
TZOFFSETFROM:-0500
TZOFFSETTO:-0600
TZNAME:CST
DTSTART:20201101T070000
END:STANDARD
BEGIN:DAYLIGHT
TZOFFSETFROM:-0600
TZOFFSETTO:-0500
TZNAME:CDT
DTSTART:20210314T080000
END:DAYLIGHT
BEGIN:STANDARD
TZOFFSETFROM:-0500
TZOFFSETTO:-0600
TZNAME:CST
DTSTART:20211107T070000
END:STANDARD
END:VTIMEZONE
BEGIN:VEVENT
DTSTART;TZID=UTC:20210616T173000
DTEND;TZID=UTC:20210616T190000
DTSTAMP:20260421T190715
CREATED:20210114T145911Z
LAST-MODIFIED:20210114T145920Z
UID:2185-1623864600-1623870000@www.sasd.org
SUMMARY:Outstanding Administrators Banquet
DESCRIPTION:
URL:https://www.sasd.org/events/outstanding-administrators-banquet/
LOCATION:Lodge at Deadwood\, 100 Pine Crest Drive\, Deadwood\, SD\, 57732\, United States
ORGANIZER;CN="SASD":MAILTO:Kara.Brandlee@sasd.org
GEO:44.3950055;-103.7155495
X-APPLE-STRUCTURED-LOCATION;VALUE=URI;X-ADDRESS=Lodge at Deadwood 100 Pine Crest Drive Deadwood SD 57732 United States;X-APPLE-RADIUS=500;X-TITLE=100 Pine Crest Drive:geo:-103.7155495,44.3950055
END:VEVENT
BEGIN:VEVENT
DTSTART;TZID=UTC:20210616T133000
DTEND;TZID=UTC:20210618T120000
DTSTAMP:20260421T190715
CREATED:20210114T145715Z
LAST-MODIFIED:20210114T150142Z
UID:2183-1623850200-1624017600@www.sasd.org
SUMMARY:"Wild West" Leadership Conference
DESCRIPTION:
URL:https://www.sasd.org/events/wild-west-leadership-conference-3/
LOCATION:Lodge at Deadwood\, 100 Pine Crest Drive\, Deadwood\, SD\, 57732\, United States
ORGANIZER;CN="SASD":MAILTO:Kara.Brandlee@sasd.org
GEO:44.3950055;-103.7155495
X-APPLE-STRUCTURED-LOCATION;VALUE=URI;X-ADDRESS=Lodge at Deadwood 100 Pine Crest Drive Deadwood SD 57732 United States;X-APPLE-RADIUS=500;X-TITLE=100 Pine Crest Drive:geo:-103.7155495,44.3950055
END:VEVENT
BEGIN:VEVENT
DTSTART;VALUE=DATE:20200610
DTEND;VALUE=DATE:20200613
DTSTAMP:20260421T190715
CREATED:20190418T173918Z
LAST-MODIFIED:20190418T174109Z
UID:1397-1591747200-1592006399@www.sasd.org
SUMMARY:"Wild West" Leadership Conference
DESCRIPTION:
URL:https://www.sasd.org/events/wild-west-leadership-conference-2/
LOCATION:Lodge at Deadwood\, 100 Pine Crest Drive\, Deadwood\, SD\, 57732\, United States
ORGANIZER;CN="SASD":MAILTO:Kara.Brandlee@sasd.org
GEO:44.3950055;-103.7155495
X-APPLE-STRUCTURED-LOCATION;VALUE=URI;X-ADDRESS=Lodge at Deadwood 100 Pine Crest Drive Deadwood SD 57732 United States;X-APPLE-RADIUS=500;X-TITLE=100 Pine Crest Drive:geo:-103.7155495,44.3950055
END:VEVENT
BEGIN:VEVENT
DTSTART;VALUE=DATE:20190612
DTEND;VALUE=DATE:20190615
DTSTAMP:20260421T190715
CREATED:20180814T182315Z
LAST-MODIFIED:20190418T174251Z
UID:1222-1560297600-1560556799@www.sasd.org
SUMMARY:"Wild West" Leadership Conference
DESCRIPTION:
URL:https://www.sasd.org/events/wild-west-leadership-conference/
LOCATION:Lodge at Deadwood\, 100 Pine Crest Drive\, Deadwood\, SD\, 57732\, United States
ORGANIZER;CN="SASD":MAILTO:Kara.Brandlee@sasd.org
GEO:44.3950055;-103.7155495
X-APPLE-STRUCTURED-LOCATION;VALUE=URI;X-ADDRESS=Lodge at Deadwood 100 Pine Crest Drive Deadwood SD 57732 United States;X-APPLE-RADIUS=500;X-TITLE=100 Pine Crest Drive:geo:-103.7155495,44.3950055
END:VEVENT
BEGIN:VEVENT
DTSTART;TZID=UTC:20180613T133000
DTEND;TZID=UTC:20180615T113000
DTSTAMP:20260421T190715
CREATED:20170717T160145Z
LAST-MODIFIED:20171120T151206Z
UID:152-1528896600-1529062200@www.sasd.org
SUMMARY:“Wild West” Leadership
DESCRIPTION:
URL:https://www.sasd.org/events/wild-west-leadership/
LOCATION:Lodge at Deadwood\, 100 Pine Crest Drive\, Deadwood\, SD\, 57732\, United States
CATEGORIES:SASD Events
ORGANIZER;CN="SASD":MAILTO:Kara.Brandlee@sasd.org
GEO:44.3950055;-103.7155495
X-APPLE-STRUCTURED-LOCATION;VALUE=URI;X-ADDRESS=Lodge at Deadwood 100 Pine Crest Drive Deadwood SD 57732 United States;X-APPLE-RADIUS=500;X-TITLE=100 Pine Crest Drive:geo:-103.7155495,44.3950055
END:VEVENT
END:VCALENDAR