BEGIN:VCALENDAR
VERSION:2.0
PRODID:-//School Administrators of South Dakota - ECPv6.15.20//NONSGML v1.0//EN
CALSCALE:GREGORIAN
METHOD:PUBLISH
X-ORIGINAL-URL:https://www.sasd.org
X-WR-CALDESC:Events for School Administrators of South Dakota
REFRESH-INTERVAL;VALUE=DURATION:PT1H
X-Robots-Tag:noindex
X-PUBLISHED-TTL:PT1H
BEGIN:VTIMEZONE
TZID:UTC
BEGIN:STANDARD
TZOFFSETFROM:+0000
TZOFFSETTO:+0000
TZNAME:UTC
DTSTART:20250101T000000
END:STANDARD
END:VTIMEZONE
BEGIN:VEVENT
DTSTART;TZID=UTC:20261006T100000
DTEND;TZID=UTC:20261006T110000
DTSTAMP:20260421T233658
CREATED:20260303T193328Z
LAST-MODIFIED:20260303T193328Z
UID:4716-1791280800-1791284400@www.sasd.org
SUMMARY:SASD Professional Services Committee
DESCRIPTION:
URL:https://www.sasd.org/events/sasd-professional-services-committee-3/
LOCATION:ONLINE
ORGANIZER;CN="SASD":MAILTO:Kara.Brandlee@sasd.org
END:VEVENT
BEGIN:VEVENT
DTSTART;TZID=UTC:20261006T123000
DTEND;TZID=UTC:20261006T133000
DTSTAMP:20260421T233658
CREATED:20260303T193605Z
LAST-MODIFIED:20260303T193605Z
UID:4718-1791289800-1791293400@www.sasd.org
SUMMARY:SASD Executive Board Meeting
DESCRIPTION:
URL:https://www.sasd.org/events/sasd-executive-board-meeting-28/
LOCATION:ONLINE
ORGANIZER;CN="SASD":MAILTO:Kara.Brandlee@sasd.org
END:VEVENT
END:VCALENDAR