BEGIN:VCALENDAR
VERSION:2.0
PRODID:-//School Administrators of South Dakota - ECPv6.15.20//NONSGML v1.0//EN
CALSCALE:GREGORIAN
METHOD:PUBLISH
X-WR-CALNAME:School Administrators of South Dakota
X-ORIGINAL-URL:https://www.sasd.org
X-WR-CALDESC:Events for School Administrators of South Dakota
REFRESH-INTERVAL;VALUE=DURATION:PT1H
X-Robots-Tag:noindex
X-PUBLISHED-TTL:PT1H
BEGIN:VTIMEZONE
TZID:UTC
BEGIN:STANDARD
TZOFFSETFROM:+0000
TZOFFSETTO:+0000
TZNAME:UTC
DTSTART:20160101T000000
END:STANDARD
END:VTIMEZONE
BEGIN:VEVENT
DTSTART;TZID=UTC:20180613T133000
DTEND;TZID=UTC:20180615T113000
DTSTAMP:20260421T145321
CREATED:20170717T160145Z
LAST-MODIFIED:20171120T151206Z
UID:152-1528896600-1529062200@www.sasd.org
SUMMARY:“Wild West” Leadership
DESCRIPTION:
URL:https://www.sasd.org/events/wild-west-leadership/
LOCATION:Lodge at Deadwood\, 100 Pine Crest Drive\, Deadwood\, SD\, 57732\, United States
CATEGORIES:SASD Events
ORGANIZER;CN="SASD":MAILTO:Kara.Brandlee@sasd.org
GEO:44.3950055;-103.7155495
X-APPLE-STRUCTURED-LOCATION;VALUE=URI;X-ADDRESS=Lodge at Deadwood 100 Pine Crest Drive Deadwood SD 57732 United States;X-APPLE-RADIUS=500;X-TITLE=100 Pine Crest Drive:geo:-103.7155495,44.3950055
END:VEVENT
BEGIN:VEVENT
DTSTART;TZID=UTC:20180403T120000
DTEND;TZID=UTC:20180403T150000
DTSTAMP:20260421T145321
CREATED:20170717T160107Z
LAST-MODIFIED:20171012T191054Z
UID:151-1522756800-1522767600@www.sasd.org
SUMMARY:SASD Executive Board Meeting
DESCRIPTION:
URL:https://www.sasd.org/events/sasd-executive-board-meeting-4/
LOCATION:Arrowwood Resort at Cedar Shores\, 1500 Shoreline Dr\, Oacoma\, SD\, 57365\, United States
CATEGORIES:SASD Events
ORGANIZER;CN="SASD":MAILTO:Kara.Brandlee@sasd.org
GEO:43.8293326;-99.3429445
X-APPLE-STRUCTURED-LOCATION;VALUE=URI;X-ADDRESS=Arrowwood Resort at Cedar Shores 1500 Shoreline Dr Oacoma SD 57365 United States;X-APPLE-RADIUS=500;X-TITLE=1500 Shoreline Dr:geo:-99.3429445,43.8293326
END:VEVENT
BEGIN:VEVENT
DTSTART;TZID=UTC:20180130T150000
DTEND;TZID=UTC:20180130T170000
DTSTAMP:20260421T145321
CREATED:20170824T141148Z
LAST-MODIFIED:20180117T171432Z
UID:757-1517324400-1517331600@www.sasd.org
SUMMARY:SASD Executive Board Meeting
DESCRIPTION:Meeting will begin immediately following the Delegate Assembly.
URL:https://www.sasd.org/events/sasd-executive-board-meeting-5/
LOCATION:Ramkota Inn\, Pierre\, SD\, 57501\, United States
CATEGORIES:SASD Events
ORGANIZER;CN="SASD":MAILTO:Kara.Brandlee@sasd.org
GEO:44.372506;-100.3628839
END:VEVENT
BEGIN:VEVENT
DTSTART;TZID=UTC:20171004T130000
DTEND;TZID=UTC:20171004T150000
DTSTAMP:20260421T145321
CREATED:20170717T155511Z
LAST-MODIFIED:20170823T181650Z
UID:144-1507122000-1507129200@www.sasd.org
SUMMARY:SASD Executive Board Meeting
DESCRIPTION:
URL:https://www.sasd.org/events/sasd-executive-board-meeting-2/
LOCATION:Ramkota Inn\, Pierre\, SD\, 57501\, United States
CATEGORIES:SASD Events
ORGANIZER;CN="SASD":MAILTO:Kara.Brandlee@sasd.org
GEO:44.372506;-100.3628839
END:VEVENT
BEGIN:VEVENT
DTSTART;TZID=UTC:20171004T100000
DTEND;TZID=UTC:20171004T120000
DTSTAMP:20260421T145321
CREATED:20170717T155547Z
LAST-MODIFIED:20170823T181818Z
UID:145-1507111200-1507118400@www.sasd.org
SUMMARY:Professional Services Committee
DESCRIPTION:
URL:https://www.sasd.org/events/professional-services-committee/
LOCATION:Ramkota Inn\, Pierre\, SD\, 57501\, United States
CATEGORIES:SASD Events
ORGANIZER;CN="SASD":MAILTO:Kara.Brandlee@sasd.org
GEO:44.372506;-100.3628839
END:VEVENT
BEGIN:VEVENT
DTSTART;VALUE=DATE:20170914
DTEND;VALUE=DATE:20170915
DTSTAMP:20260421T145321
CREATED:20170818T154542Z
LAST-MODIFIED:20170818T154542Z
UID:734-1505347200-1505433599@www.sasd.org
SUMMARY:Ladies In Leadership Sioux Falls (Renner) 2017
DESCRIPTION:Location: Renner\, South Dakota \nRegistration Dates: August 18\, 2017 – September 15\, 2017 \nClick Here to Register for this Event
URL:https://www.sasd.org/events/ladies-leadership-sioux-falls-renner-2017/
LOCATION:SD
CATEGORIES:SASD Events
ORGANIZER;CN="SASD":MAILTO:Kara.Brandlee@sasd.org
END:VEVENT
BEGIN:VEVENT
DTSTART;VALUE=DATE:20170907
DTEND;VALUE=DATE:20170908
DTSTAMP:20260421T145321
CREATED:20170818T154411Z
LAST-MODIFIED:20170818T154411Z
UID:733-1504742400-1504828799@www.sasd.org
SUMMARY:Ladies In Leadership Rapid City September 2017
DESCRIPTION:Location: Haycamp Rapid City \nRegistration Dates: August 18\, 2017 – September 8\, 2017 \nClick Here to Register for this Event
URL:https://www.sasd.org/events/ladies-leadership-rapid-city-september-2017/
LOCATION:SD
CATEGORIES:SASD Events
ORGANIZER;CN="SASD":MAILTO:Kara.Brandlee@sasd.org
END:VEVENT
BEGIN:VEVENT
DTSTART;VALUE=DATE:20170904
DTEND;VALUE=DATE:20170905
DTSTAMP:20260421T145321
CREATED:20170818T154013Z
LAST-MODIFIED:20170818T154013Z
UID:732-1504483200-1504569599@www.sasd.org
SUMMARY:Superintendent Mentoring Program 2017-2018
DESCRIPTION:Description: Mentoring program for new superintendents \nLocation: In Person and Webinars \nRegistration Dates: July 24\, 2017 – September 30\, 2017 \nClick Here to Register for this Event
URL:https://www.sasd.org/events/superintendent-mentoring-program-2017-2018/
LOCATION:SD
CATEGORIES:SASD Events
ORGANIZER;CN="SASD":MAILTO:Kara.Brandlee@sasd.org
END:VEVENT
BEGIN:VEVENT
DTSTART;TZID=UTC:20170810T080000
DTEND;TZID=UTC:20170811T170000
DTSTAMP:20260421T145321
CREATED:20170717T155308Z
LAST-MODIFIED:20170720T145309Z
UID:143-1502352000-1502470800@www.sasd.org
SUMMARY:ASBSD/SASD Joint Convention
DESCRIPTION:
URL:https://www.sasd.org/events/asbsdsasd-joint-convention/
LOCATION:Sioux Falls Convention Center\, 1201 Northwest Ave\, Sioux Falls\, SD\, 57104\, United States
CATEGORIES:SASD Events
ORGANIZER;CN="SASD":MAILTO:Kara.Brandlee@sasd.org
GEO:43.5612074;-96.7508066
X-APPLE-STRUCTURED-LOCATION;VALUE=URI;X-ADDRESS=Sioux Falls Convention Center 1201 Northwest Ave Sioux Falls SD 57104 United States;X-APPLE-RADIUS=500;X-TITLE=1201 Northwest Ave:geo:-96.7508066,43.5612074
END:VEVENT
BEGIN:VEVENT
DTSTART;TZID=UTC:20170809T080000
DTEND;TZID=UTC:20170809T170000
DTSTAMP:20260421T145321
CREATED:20170717T155225Z
LAST-MODIFIED:20170717T155225Z
UID:142-1502265600-1502298000@www.sasd.org
SUMMARY:SASD Executive Board Meeting
DESCRIPTION:Wednesday\, August 9\, 2017\nTime: TBD
URL:https://www.sasd.org/events/sasd-executive-board-meeting/
LOCATION:Sioux Falls Convention Center\, 1201 Northwest Ave\, Sioux Falls\, SD\, 57104\, United States
CATEGORIES:SASD Events
ORGANIZER;CN="SASD":MAILTO:Kara.Brandlee@sasd.org
GEO:43.5612074;-96.7508066
X-APPLE-STRUCTURED-LOCATION;VALUE=URI;X-ADDRESS=Sioux Falls Convention Center 1201 Northwest Ave Sioux Falls SD 57104 United States;X-APPLE-RADIUS=500;X-TITLE=1201 Northwest Ave:geo:-96.7508066,43.5612074
END:VEVENT
END:VCALENDAR